BEGIN:VCALENDAR
VERSION:2.0
PRODID:-//edebell.com - ECPv6.15.13//NONSGML v1.0//EN
CALSCALE:GREGORIAN
METHOD:PUBLISH
X-WR-CALNAME:edebell.com
X-ORIGINAL-URL:https://edebell.com
X-WR-CALDESC:Events for edebell.com
REFRESH-INTERVAL;VALUE=DURATION:PT1H
X-Robots-Tag:noindex
X-PUBLISHED-TTL:PT1H
BEGIN:VTIMEZONE
TZID:UTC
BEGIN:STANDARD
TZOFFSETFROM:+0000
TZOFFSETTO:+0000
TZNAME:UTC
DTSTART:20170101T000000
END:STANDARD
END:VTIMEZONE
BEGIN:VEVENT
DTSTART;TZID=UTC:20180518T123000
DTEND;TZID=UTC:20180520T170000
DTSTAMP:20260424T012450
CREATED:20180116T191946Z
LAST-MODIFIED:20180116T191946Z
UID:201-1526646600-1526835600@edebell.com
SUMMARY:Motor City Comic Con
DESCRIPTION:Hope to see you at Motor City!
URL:https://edebell.com/event/motor-city-comic-con/
LOCATION:Suburban Collection Showplace\, 46100 Grand River Ave\, Novi\, MI\, 48374\, United States
END:VEVENT
BEGIN:VEVENT
DTSTART;VALUE=DATE:20180324
DTEND;VALUE=DATE:20180327
DTSTAMP:20260424T012450
CREATED:20180116T192432Z
LAST-MODIFIED:20180116T192446Z
UID:204-1521856800-1522029599@edebell.com
SUMMARY:Gem City Comic Con
DESCRIPTION:Dayton! I’m coming back – hope to see you there. ; )
URL:https://edebell.com/event/gem-city-comic-con/
LOCATION:Dayton Convention Center\, 22 East 5th St.\, Dayton\, OH\, 45402\, United States
END:VEVENT
BEGIN:VEVENT
DTSTART;TZID=UTC:20180223T170000
DTEND;TZID=UTC:20180224T180000
DTSTAMP:20260424T012450
CREATED:20180116T191706Z
LAST-MODIFIED:20180116T191706Z
UID:198-1519405200-1519495200@edebell.com
SUMMARY:Great Lakes Comic Con
DESCRIPTION:Hope to see you again this year in Warren at the Great Lakes Comic Con.
URL:https://edebell.com/event/great-lakes-comic-con/
LOCATION:Macomb Community College Expo Center\, 4500 E. 12 Mile Road\, Warren\, MI\, 48088\, United States
END:VEVENT
BEGIN:VEVENT
DTSTART;VALUE=DATE:20180119
DTEND;VALUE=DATE:20180123
DTSTAMP:20260424T012450
CREATED:20180115T184946Z
LAST-MODIFIED:20180116T191256Z
UID:113-1516327200-1516586399@edebell.com
SUMMARY:ConFusion
DESCRIPTION:I’ll be signing books in the Artist Alley at ConFusion Through the Looking Glass – hope to see you there.
URL:https://edebell.com/event/con-fusion/
LOCATION:The Sheraton Novi\, 21111 Haggerty Road\, Novi\, Michigan\, 48375
END:VEVENT
END:VCALENDAR