BEGIN:VCALENDAR
VERSION:2.0
PRODID:-//edebell.com - ECPv6.15.13//NONSGML v1.0//EN
CALSCALE:GREGORIAN
METHOD:PUBLISH
X-WR-CALNAME:edebell.com
X-ORIGINAL-URL:https://edebell.com
X-WR-CALDESC:Events for edebell.com
REFRESH-INTERVAL;VALUE=DURATION:PT1H
X-Robots-Tag:noindex
X-PUBLISHED-TTL:PT1H
BEGIN:VTIMEZONE
TZID:UTC
BEGIN:STANDARD
TZOFFSETFROM:+0000
TZOFFSETTO:+0000
TZNAME:UTC
DTSTART:20180101T000000
END:STANDARD
END:VTIMEZONE
BEGIN:VTIMEZONE
TZID:America/Detroit
BEGIN:DAYLIGHT
TZOFFSETFROM:-0500
TZOFFSETTO:-0400
TZNAME:EDT
DTSTART:20200308T070000
END:DAYLIGHT
BEGIN:STANDARD
TZOFFSETFROM:-0400
TZOFFSETTO:-0500
TZNAME:EST
DTSTART:20201101T060000
END:STANDARD
BEGIN:DAYLIGHT
TZOFFSETFROM:-0500
TZOFFSETTO:-0400
TZNAME:EDT
DTSTART:20210314T070000
END:DAYLIGHT
BEGIN:STANDARD
TZOFFSETFROM:-0400
TZOFFSETTO:-0500
TZNAME:EST
DTSTART:20211107T060000
END:STANDARD
BEGIN:DAYLIGHT
TZOFFSETFROM:-0500
TZOFFSETTO:-0400
TZNAME:EDT
DTSTART:20220313T070000
END:DAYLIGHT
BEGIN:STANDARD
TZOFFSETFROM:-0400
TZOFFSETTO:-0500
TZNAME:EST
DTSTART:20221106T060000
END:STANDARD
END:VTIMEZONE
BEGIN:VTIMEZONE
TZID:UTC
BEGIN:STANDARD
TZOFFSETFROM:+0000
TZOFFSETTO:+0000
TZNAME:UTC
DTSTART:20190101T000000
END:STANDARD
END:VTIMEZONE
BEGIN:VEVENT
DTSTART;TZID=UTC:20220429T080000
DTEND;TZID=UTC:20220501T170000
DTSTAMP:20260423T185643
CREATED:20220407T135331Z
LAST-MODIFIED:20220407T135334Z
UID:967-1651219200-1651424400@edebell.com
SUMMARY:FAN EXPO Cleveland
DESCRIPTION:
URL:https://edebell.com/event/fan-expo-cleveland-2/
LOCATION:Huntington Convention Center of Cleveland\, 300 Lakeside Ave E\, Cleveland\, OH\, 44114\, United States
END:VEVENT
BEGIN:VEVENT
DTSTART;TZID=UTC:20220312T080000
DTEND;TZID=UTC:20220313T170000
DTSTAMP:20260423T185643
CREATED:20210521T195013Z
LAST-MODIFIED:20210521T195016Z
UID:872-1647072000-1647190800@edebell.com
SUMMARY:Fantasticon
DESCRIPTION:
URL:https://edebell.com/event/fantasticon/
LOCATION:Seagate Convention Centre\, 401 Jefferson Ave\, Toledo\, 43604\, United States
END:VEVENT
BEGIN:VEVENT
DTSTART;TZID=UTC:20220225T080000
DTEND;TZID=UTC:20220226T170000
DTSTAMP:20260423T185643
CREATED:20211116T150238Z
LAST-MODIFIED:20211116T150243Z
UID:911-1645776000-1645894800@edebell.com
SUMMARY:Great Lakes Comic Convention
DESCRIPTION:
URL:https://edebell.com/event/great-lakes-comic-convention-2/
LOCATION:Macomb Community College Expo Center\, 4500 E. 12 Mile Road\, Warren\, MI\, 48088\, United States
END:VEVENT
BEGIN:VEVENT
DTSTART;TZID=UTC:20220121T080000
DTEND;TZID=UTC:20220123T170000
DTSTAMP:20260423T185643
CREATED:20211206T182805Z
LAST-MODIFIED:20211206T182809Z
UID:917-1642752000-1642957200@edebell.com
SUMMARY:Rising ConFusion
DESCRIPTION:
URL:https://edebell.com/event/rising-confusion/
LOCATION:MI
END:VEVENT
BEGIN:VEVENT
DTSTART;TZID=UTC:20211120T080000
DTEND;TZID=UTC:20211120T170000
DTSTAMP:20260423T185643
CREATED:20210829T011216Z
LAST-MODIFIED:20210829T011452Z
UID:887-1637395200-1637427600@edebell.com
SUMMARY:Blue Water International Comic Con
DESCRIPTION:
URL:https://edebell.com/event/blue-water-international-comic-con-2/
LOCATION:Bluewater Convention Center\, 800 Harker St.\, Port Huron\, Michigan\, 48060\, United States
END:VEVENT
BEGIN:VEVENT
DTSTART;TZID=UTC:20211112T080000
DTEND;TZID=UTC:20211114T170000
DTSTAMP:20260423T185643
CREATED:20210521T183501Z
LAST-MODIFIED:20210521T184101Z
UID:865-1636704000-1636909200@edebell.com
SUMMARY:Grand Rapids Comic Con
DESCRIPTION:
URL:https://edebell.com/event/grand-rapids-comic-con/
LOCATION:DeVos Place\, 303 Monroe Ave NW\, Grand Rapids\, Michigan\, 49503
END:VEVENT
BEGIN:VEVENT
DTSTART;TZID=UTC:20211029T080000
DTEND;TZID=UTC:20211031T170000
DTSTAMP:20260423T185643
CREATED:20210521T183803Z
LAST-MODIFIED:20210521T183809Z
UID:867-1635494400-1635699600@edebell.com
SUMMARY:Cherry Capital Comic Con
DESCRIPTION:
URL:https://edebell.com/event/cherry-capital-comic-con-2/
LOCATION:Grand Traverse Resort\, 100 Grand Traverse Village Blvd\, Acme\, MI\, 49610\, United States
END:VEVENT
BEGIN:VEVENT
DTSTART;TZID=UTC:20211015T080000
DTEND;TZID=UTC:20211017T170000
DTSTAMP:20260423T185643
CREATED:20210613T124846Z
LAST-MODIFIED:20210613T124850Z
UID:875-1634284800-1634490000@edebell.com
SUMMARY:Motor City Comic Con
DESCRIPTION:
URL:https://edebell.com/event/motor-city-comic-con-4/
LOCATION:Suburban Collection Showplace\, 46100 Grand River Ave\, Novi\, MI\, 48374\, United States
END:VEVENT
BEGIN:VEVENT
DTSTART;TZID=UTC:20210930T080000
DTEND;TZID=UTC:20211003T170000
DTSTAMP:20260423T185643
CREATED:20210521T182956Z
LAST-MODIFIED:20210521T183000Z
UID:863-1632988800-1633280400@edebell.com
SUMMARY:Origins Game Fair
DESCRIPTION:
URL:https://edebell.com/event/origins-game-fair-2/
LOCATION:Greater Columbus Convention Center\, 400 N. High St.\, Columus\, 43215\, United States
END:VEVENT
BEGIN:VEVENT
DTSTART;TZID=UTC:20210916T080000
DTEND;TZID=UTC:20210919T170000
DTSTAMP:20260423T185643
CREATED:20210521T182630Z
LAST-MODIFIED:20210521T182635Z
UID:861-1631779200-1632070800@edebell.com
SUMMARY:Gen Con
DESCRIPTION:
URL:https://edebell.com/event/gen-con/
LOCATION:Indianapolis Convention Center\, 100 S. Capitol Avenue\, Indianapolis\, IN\, 46225\, United States
END:VEVENT
BEGIN:VEVENT
DTSTART;TZID=UTC:20210724T080000
DTEND;TZID=UTC:20210725T170000
DTSTAMP:20260423T185643
CREATED:20210521T182448Z
LAST-MODIFIED:20210521T182454Z
UID:859-1627113600-1627232400@edebell.com
SUMMARY:Gem City Comic Con
DESCRIPTION:
URL:https://edebell.com/event/gem-city-comic-con-4/
LOCATION:Dayton Convention Center\, 22 East 5th St.\, Dayton\, OH\, 45402\, United States
END:VEVENT
BEGIN:VEVENT
DTSTART;TZID=UTC:20210508T080000
DTEND;TZID=UTC:20210508T170000
DTSTAMP:20260423T185643
CREATED:20210328T152208Z
LAST-MODIFIED:20210328T152211Z
UID:840-1620460800-1620493200@edebell.com
SUMMARY:Iqarus Book Con
DESCRIPTION:Join me for a publishing panel at Iqarus 2021 – and be sure to check out the book shop for awesome queer stories.
URL:https://edebell.com/event/iqarus-2021/
LOCATION:Online
END:VEVENT
BEGIN:VEVENT
DTSTART;TZID=America/Detroit:20210423T080000
DTEND;TZID=America/Detroit:20210425T170000
DTSTAMP:20260423T185643
CREATED:20210328T151727Z
LAST-MODIFIED:20210328T151901Z
UID:834-1619164800-1619370000@edebell.com
SUMMARY:Penguicon 2021
DESCRIPTION:Join me for a reading\, discussion\, and panels online at Penguicon 2021.
URL:https://edebell.com/event/penguicon-2021/
LOCATION:MI
END:VEVENT
BEGIN:VEVENT
DTSTART;VALUE=DATE:20200730
DTEND;VALUE=DATE:20200804
DTSTAMP:20260423T185643
CREATED:20200120T164940Z
LAST-MODIFIED:20200803T121912Z
UID:645-1596074400-1596419999@edebell.com
SUMMARY:Gen Con Online
DESCRIPTION:  \nE.D.E. Bell print book purchases made during Gen Con Online from edebell.com/shop will be shipped with a Diamondsong badge ribbon*. (Put it on your Gen Con Online badge or wear it next year and swing by sporting it then!) \nI would love to see you for Gen Con Online! I will be in and out of my Discord server throughout the event (9A-9P): https://discord.gg/Mjbvkcp (If you don’t see me and my admins are online\, go ahead and ask them to see if I’m available.) I’ll also be in the Gen Con Online Discord as E.D.E. Bell. \nIf you don’t have Discord\, you can message me on my Facebook page: \nAdditionally\, I will be at my virtual table in a video chat room in the Discord channel between 1 and 3 PM (EDT) each day. Stop in\, just say hi\, ask about the books. If you’d like to order books off the website\, you can let me know if (and how) you’d like them signed and/or personalized! If you’re uncomfortable on video\, audio or chat is just fine. The virtual table is very chill. : ) \nAnd – Saturday night at 7 PM – I’ll be doing a short reading from my upcoming short novel: Lord’s Dome on the Arvan Eleron Twitch Channel: and then a chat following in my Discord channel. This is event SEM20190161 in the Gen Con Online event catalog. \n* If you’d like to listen to the reading\, it’s available on YouTube. \nYou can look me up and all the awesome authors\, artists\, crafters\, and vendors in the Gen Con Looking Glass. (Looking Glass will be online through the end of August 2020.) It’s been a tough year for people who work at shows – so your support\, emotional included!\, is really appreciated. \nI’ll keep this page updated with more details as I have them but I hope to see you around. And I’ll miss seeing you in person! \n#GenCon #GenCon2020 #GenConOnline #GenConTogether \n* Ribbon promotion and book signatures applies only to books shipped from our office. Specifically\, if you ship to outside of the US and want a signature and/or ribbon\, you’ll need to select the higher “Ship from U.S.” rate. The international “regionally printed” option cannot include these – but I’d still appreciate your support and hope you enjoy the stories!
URL:https://edebell.com/event/gen-con-2020/
LOCATION:Indianapolis Convention Center\, 100 S. Capitol Avenue\, Indianapolis\, IN\, 46225\, United States
ATTACH;FMTTYPE=image/png:https://edebell.com/wp-content/uploads/2020/01/CGO.png
END:VEVENT
BEGIN:VEVENT
DTSTART;TZID=UTC:20200718T120000
DTEND;TZID=UTC:20200718T235900
DTSTAMP:20260423T185643
CREATED:20200711T215141Z
LAST-MODIFIED:20200714T234046Z
UID:714-1595073600-1595116740@edebell.com
SUMMARY:JulyCon
DESCRIPTION:An afternoon of panels followed by an evening of gaming\, all to benefit the Octavia E. Butler Memorial Scholarship. All Times PM\, EDT. \n\n\n\nNoon: Worldbuilding with DepthE.D.E. Bell\, Michael Underwood\, Gregory A. Wilson\, C.S.E. Cooney\, Marie Bilodeau\, Tracy Chowdhury\, Iori Kusano\, LaShawn M. Wanak \n\n\n\n1:00: Working with a Small PressLucy A. Snyder\, Chris A. Jackson\, C.S.E. Cooney\, Marie Bilodeau\, Chris Bell\, LaShawn M. Wanak \n\n\n\n2:00: Narrative in Different MediumsToiya Kristen Finley\, Jennifer Brozek\, Daniel Myers\, Gregory A. Wilson\, Carlos Hernandez \n\n\n\n3:00: Running Productive Critique GroupsSarah Hans\, Lucy A. Snyder\, Iori Kusano\, Aaron Rosenberg\, Brandon O’Brien \n\n\n\n4:00: Game Tie-in WritingSarah Hans\, Jennifer Brozek\, Chris A. Jackson\, Tracy Chowdhury\, Gregory A. Wilson\, Aaron Rosenberg\, Brandon O’Brien \n\n\n\n5:00: Intro to PublishingToiya Kristen Finley\, E.D.E. Bell\, Michael Underwood\, Carlos Hernandez\, Chris Bell \n\n\n\n8:00: D&D with an amazing cast!GM Will Sobel\, and authors Rick Riordan\, Tehlor Kay Mejia\, Kwame Mbalia\, Carlos Herndandez\, Sarwat Chadda\, and Yoon Ha Lee
URL:https://edebell.com/event/julycon/
LOCATION:JulyCon Online
END:VEVENT
BEGIN:VEVENT
DTSTART;TZID=UTC:20200617T080000
DTEND;TZID=UTC:20200621T170000
DTSTAMP:20260423T185643
CREATED:20200119T120015Z
LAST-MODIFIED:20200711T214801Z
UID:642-1592380800-1592758800@edebell.com
SUMMARY:Origins Game Fair (Cancelled)
DESCRIPTION:Join me for my first appearance at the Origins Game Fair – Library.
URL:https://edebell.com/event/origins-game-fair/
LOCATION:Greater Columbus Convention Center\, 400 N. High St.\, Columus\, 43215\, United States
END:VEVENT
BEGIN:VEVENT
DTSTART;VALUE=DATE:20200522
DTEND;VALUE=DATE:20200527
DTSTAMP:20260423T185643
CREATED:20200205T130953Z
LAST-MODIFIED:20200711T214747Z
UID:651-1590112800-1590458399@edebell.com
SUMMARY:Traverse City Comic Con (Cancelled)
DESCRIPTION:Join me in beautiful Traverse City for a fun\, family-oriented Comic Con.
URL:https://edebell.com/event/traverse-city-comic-con/
LOCATION:Grand Traverse Resort\, 100 Grand Traverse Village Blvd\, Acme\, MI\, 49610\, United States
END:VEVENT
BEGIN:VEVENT
DTSTART;VALUE=DATE:20200515
DTEND;VALUE=DATE:20200519
DTSTAMP:20260423T185643
CREATED:20200106T221909Z
LAST-MODIFIED:20200711T214727Z
UID:633-1589508000-1589767199@edebell.com
SUMMARY:Motor City Comic Con (Cancelled)
DESCRIPTION:Join me in Novi for Motor City Comic Con!
URL:https://edebell.com/event/motor-city-comic-con-3/
LOCATION:Suburban Collection Showplace\, 46100 Grand River Ave\, Novi\, MI\, 48374\, United States
END:VEVENT
BEGIN:VEVENT
DTSTART;VALUE=DATE:20200425
DTEND;VALUE=DATE:20200428
DTSTAMP:20260423T185643
CREATED:20190722T141559Z
LAST-MODIFIED:20200711T214648Z
UID:557-1587780000-1587952799@edebell.com
SUMMARY:Gem City Comic Con (Cancelled)
DESCRIPTION:I love returning to Dayton – will I see you there?
URL:https://edebell.com/event/gem-city-comic-con-3/
LOCATION:Dayton Convention Center\, 22 East 5th St.\, Dayton\, OH\, 45402\, United States
END:VEVENT
BEGIN:VEVENT
DTSTART;VALUE=DATE:20200314
DTEND;VALUE=DATE:20200317
DTSTAMP:20260423T185643
CREATED:20190722T135118Z
LAST-MODIFIED:20200711T214634Z
UID:551-1584151200-1584323999@edebell.com
SUMMARY:Fantasticon Toledo (Cancelled)
DESCRIPTION:Join me for my first event in Toledo! I’m excited to meet you. : )
URL:https://edebell.com/event/fantasticon-toledo/
LOCATION:Seagate Convention Centre\, 401 Jefferson Ave\, Toledo\, 43604\, United States
END:VEVENT
BEGIN:VEVENT
DTSTART;VALUE=DATE:20200221
DTEND;VALUE=DATE:20200224
DTSTAMP:20260423T185643
CREATED:20191027T173335Z
LAST-MODIFIED:20191027T173344Z
UID:565-1582250400-1582423199@edebell.com
SUMMARY:Great Lakes Comic Convention
DESCRIPTION:Join me in Warren\, Michigan for The Great Lakes Comic Convention. I really love this event\, and hope you’ll give it a look.
URL:https://edebell.com/event/great-lakes-comic-convention/
LOCATION:Macomb Community College Expo Center\, 4500 E. 12 Mile Road\, Warren\, MI\, 48088\, United States
END:VEVENT
BEGIN:VEVENT
DTSTART;VALUE=DATE:20200117
DTEND;VALUE=DATE:20200121
DTSTAMP:20260423T185643
CREATED:20190722T140828Z
LAST-MODIFIED:20190722T140828Z
UID:555-1579226400-1579485599@edebell.com
SUMMARY:How to Train Your ConFusion
DESCRIPTION:I will be back at ConFusion! Panel info announced closer to date.
URL:https://edebell.com/event/how-to-train-your-confusion/
LOCATION:The Sheraton Novi\, 21111 Haggerty Road\, Novi\, Michigan\, 48375
END:VEVENT
BEGIN:VEVENT
DTSTART;VALUE=DATE:20191005
DTEND;VALUE=DATE:20191008
DTSTAMP:20260423T185643
CREATED:20181121T205848Z
LAST-MODIFIED:20190102T042036Z
UID:420-1570240800-1570413599@edebell.com
SUMMARY:London Comic Con
DESCRIPTION:
URL:https://edebell.com/event/london-comic-con-2/
LOCATION:London Convention Centre\, 300 York St\, London\, Ontario\, N5W 2X6\, Canada
END:VEVENT
BEGIN:VEVENT
DTSTART;TZID=UTC:20190928T100000
DTEND;TZID=UTC:20190928T160000
DTSTAMP:20260423T185643
CREATED:20190826T014429Z
LAST-MODIFIED:20200325T192312Z
UID:560-1569664800-1569686400@edebell.com
SUMMARY:Great Lakes Fall Expo
DESCRIPTION:So happy to say that I’ll be a Special Guest at the Great Lakes Comic Expo Fall Expo in Madison Heights\, Michigan – see you there?
URL:https://edebell.com/event/great-lakes-fall-expo/
LOCATION:Madison Place\, 876 Horace Brown Dr.\, Madison Heights\, MI\, 48071\, United States
END:VEVENT
BEGIN:VEVENT
DTSTART;VALUE=DATE:20190816
DTEND;VALUE=DATE:20190820
DTSTAMP:20260423T185643
CREATED:20181225T220111Z
LAST-MODIFIED:20181225T220111Z
UID:439-1565920800-1566179999@edebell.com
SUMMARY:Michigan Comic Convention
DESCRIPTION:I’ll be at the Michigan Comic Convention in Detroit in August – see you there?
URL:https://edebell.com/event/michigan-comic-convention/
LOCATION:Cobo Center\, 1 Washington Blvd\, Detroit\, MI\, 48226\, United States
END:VEVENT
BEGIN:VEVENT
DTSTART;VALUE=DATE:20190801
DTEND;VALUE=DATE:20190806
DTSTAMP:20260423T185643
CREATED:20190121T235305Z
LAST-MODIFIED:20190722T135213Z
UID:448-1564624800-1564970399@edebell.com
SUMMARY:Gen Con 52
DESCRIPTION:Visit me in Author’s Avenue at Gen Con!
URL:https://edebell.com/event/gencon-52/
LOCATION:Indianapolis Convention Center\, 100 S. Capitol Avenue\, Indianapolis\, IN\, 46225\, United States
END:VEVENT
BEGIN:VEVENT
DTSTART;TZID=UTC:20190622T120000
DTEND;TZID=UTC:20190622T140000
DTSTAMP:20260423T185643
CREATED:20190528T171709Z
LAST-MODIFIED:20190528T171709Z
UID:523-1561204800-1561212000@edebell.com
SUMMARY:Book Signing at Urbanrest Brewing Company
DESCRIPTION:Book signing at Urbanrest Brewing Company – stop by for a beer and to say hi!
URL:https://edebell.com/event/book-signing-at-urbanrest-brewing-company/
LOCATION:Urbanrest Brewing Company\, 2615 Wolcott St\, Ferndale\, MI\, 48220\, United States
END:VEVENT
BEGIN:VEVENT
DTSTART;VALUE=DATE:20190524
DTEND;VALUE=DATE:20190528
DTSTAMP:20260423T185643
CREATED:20190206T211700Z
LAST-MODIFIED:20190206T211700Z
UID:478-1558663200-1558922399@edebell.com
SUMMARY:Cherry Capital Comic Con
DESCRIPTION:Join me for my first Cherry Capital Comic Con – in beautiful Traverse City.
URL:https://edebell.com/event/cherry-capital-comic-con/
LOCATION:Grand Traverse Resort\, 100 Grand Traverse Village Blvd\, Acme\, MI\, 49610\, United States
END:VEVENT
BEGIN:VEVENT
DTSTART;VALUE=DATE:20190517
DTEND;VALUE=DATE:20190521
DTSTAMP:20260423T185643
CREATED:20190103T040051Z
LAST-MODIFIED:20190103T040051Z
UID:442-1558058400-1558317599@edebell.com
SUMMARY:Motor City Comic Con
DESCRIPTION:Join me in Novi for the 30th anniversary of Motor City Comic Con!
URL:https://edebell.com/event/motor-city-comic-con-2/
LOCATION:Suburban Collection Showplace\, 46100 Grand River Ave\, Novi\, MI\, 48374\, United States
END:VEVENT
BEGIN:VEVENT
DTSTART;VALUE=DATE:20190503
DTEND;VALUE=DATE:20190507
DTSTAMP:20260423T185643
CREATED:20190413T173642Z
LAST-MODIFIED:20190413T173642Z
UID:501-1556848800-1557107999@edebell.com
SUMMARY:Penguicon 2019
DESCRIPTION:Join me at Penguicon 2019\, where I’ll be participating in three panels: \nFriday\, 03 May\, 6PM: Socially Conscious Fiction \nWhat issues do you consider regarding social responsibility when writing fiction? Representation? Tropes and stereotypes? Join our panel for an open discussion. \nFriday 03 May\, 8PM: Anthology Submission – Advice from the Editor \nAre you interested in submitting short stories to themed anthologies? Get tips and tricks from anthology editors \nSunday 05 May\, 11AM: Meet Atthis Arts \nCurious about what a local small press is up to? Have questions about indie publishing? Meet the Atthis Arts team\, out of Ferndale\, and join in an open discussion about indie publishing. \n 
URL:https://edebell.com/event/penguicon-2019/
LOCATION:The Westin Southfield Detroit\, 1500 Town Center\, Southfield\, MI\, 48075\, United States
END:VEVENT
END:VCALENDAR