BEGIN:VCALENDAR
VERSION:2.0
PRODID:-//edebell.com - ECPv6.15.13//NONSGML v1.0//EN
CALSCALE:GREGORIAN
METHOD:PUBLISH
X-ORIGINAL-URL:https://edebell.com
X-WR-CALDESC:Events for edebell.com
REFRESH-INTERVAL;VALUE=DURATION:PT1H
X-Robots-Tag:noindex
X-PUBLISHED-TTL:PT1H
BEGIN:VTIMEZONE
TZID:UTC
BEGIN:STANDARD
TZOFFSETFROM:+0000
TZOFFSETTO:+0000
TZNAME:UTC
DTSTART:20250101T000000
END:STANDARD
END:VTIMEZONE
BEGIN:VEVENT
DTSTART;TZID=UTC:20260501T120000
DTEND;TZID=UTC:20260501T130000
DTSTAMP:20260423T141245
CREATED:20260421T155231Z
LAST-MODIFIED:20260421T155234Z
UID:1410-1777636800-1777640400@edebell.com
SUMMARY:Strong Women Strange Worlds Quick Reads
DESCRIPTION:Join six genre writers for quick fun\, eclectic reads.
URL:https://edebell.com/event/strong-women-strange-worlds-quick-reads/
END:VEVENT
BEGIN:VEVENT
DTSTART;TZID=UTC:20260603T080000
DTEND;TZID=UTC:20260607T170000
DTSTAMP:20260423T141245
CREATED:20260421T154907Z
LAST-MODIFIED:20260421T154910Z
UID:1404-1780473600-1780851600@edebell.com
SUMMARY:2026 Nebula Conference
DESCRIPTION:My first Nebulas in person! I hope to see you in Chicago.
URL:https://edebell.com/event/2026-nebula-conference/
LOCATION:Crown Plaza Chicago O’Hare Hotel & Conference Center\, 5440 N River Rd\, Rosemont\, IL\, 60018\, United States
END:VEVENT
BEGIN:VEVENT
DTSTART;TZID=UTC:20260926T100000
DTEND;TZID=UTC:20260927T170000
DTSTAMP:20260423T141245
CREATED:20260421T155603Z
LAST-MODIFIED:20260421T160009Z
UID:1412-1790416800-1790528400@edebell.com
SUMMARY:London Comic Con
DESCRIPTION:Featured Author
URL:https://edebell.com/event/london-comic-con-7/
LOCATION:Western Fair District\, 316 Rectory St.\, London\, Canada
END:VEVENT
END:VCALENDAR