BEGIN:VCALENDAR
VERSION:2.0
PRODID:-//edebell.com - ECPv6.15.13//NONSGML v1.0//EN
CALSCALE:GREGORIAN
METHOD:PUBLISH
X-ORIGINAL-URL:https://edebell.com
X-WR-CALDESC:Events for edebell.com
REFRESH-INTERVAL;VALUE=DURATION:PT1H
X-Robots-Tag:noindex
X-PUBLISHED-TTL:PT1H
BEGIN:VTIMEZONE
TZID:UTC
BEGIN:STANDARD
TZOFFSETFROM:+0000
TZOFFSETTO:+0000
TZNAME:UTC
DTSTART:20200101T000000
END:STANDARD
END:VTIMEZONE
BEGIN:VEVENT
DTSTART;TZID=UTC:20251030T080000
DTEND;TZID=UTC:20251102T170000
DTSTAMP:20260423T153921
CREATED:20250626T124529Z
LAST-MODIFIED:20250626T124532Z
UID:1329-1761811200-1762102800@edebell.com
SUMMARY:World Fantasy Convention
DESCRIPTION:Hello\, world!
URL:https://edebell.com/event/world-fantasy-convention-2/
LOCATION:Metropole Hotel\, Kings Rd\, Brighton\, BN1 2FU\, United Kingdom
END:VEVENT
BEGIN:VEVENT
DTSTART;TZID=UTC:20251011T100000
DTEND;TZID=UTC:20251011T170000
DTSTAMP:20260423T153921
CREATED:20250824T154213Z
LAST-MODIFIED:20250824T154215Z
UID:1338-1760176800-1760202000@edebell.com
SUMMARY:Ban This Book Fest
DESCRIPTION:
URL:https://edebell.com/event/ban-this-book-fest/
LOCATION:Ferndale\, Michigan\, Ferndale\, Michigan\, United States
END:VEVENT
BEGIN:VEVENT
DTSTART;TZID=UTC:20250913T080000
DTEND;TZID=UTC:20250914T170000
DTSTAMP:20260423T153921
CREATED:20250824T002704Z
LAST-MODIFIED:20250824T002707Z
UID:1336-1757750400-1757869200@edebell.com
SUMMARY:London Comic Con
DESCRIPTION:Always thrilled to be in London. See you there?
URL:https://edebell.com/event/london-comic-con-6/
LOCATION:RBC Place London\, 300 York Street\, London\, Ontario\, Canada
END:VEVENT
BEGIN:VEVENT
DTSTART;TZID=UTC:20250813T080000
DTEND;TZID=UTC:20250817T170000
DTSTAMP:20260423T153921
CREATED:20241122T202051Z
LAST-MODIFIED:20241122T202750Z
UID:1280-1755072000-1755450000@edebell.com
SUMMARY:Seattle Worldcon 2025
DESCRIPTION:Join me for my first visit to the PNW!
URL:https://edebell.com/event/seattle-worldcon-2025/
CATEGORIES:Convention
END:VEVENT
BEGIN:VEVENT
DTSTART;TZID=UTC:20241101T080000
DTEND;TZID=UTC:20241103T170000
DTSTAMP:20260423T153921
CREATED:20240901T001640Z
LAST-MODIFIED:20240901T001648Z
UID:1202-1730448000-1730653200@edebell.com
SUMMARY:Can*Con
DESCRIPTION:Can*Con 2024! In beautiful Ottawa – see you there?
URL:https://edebell.com/event/cancon-3/
LOCATION:The Sheraton Ottawa Hotel\, 150 Albert Street\, Ottawa\, Ontario\, K1P 5G2\, Canada
END:VEVENT
BEGIN:VEVENT
DTSTART;TZID=UTC:20241017T080000
DTEND;TZID=UTC:20241020T170000
DTSTAMP:20260423T153921
CREATED:20240901T001420Z
LAST-MODIFIED:20240901T001535Z
UID:1197-1729152000-1729443600@edebell.com
SUMMARY:World Fantasy Convention
DESCRIPTION:My first time at WFC! Very excited!
URL:https://edebell.com/event/world-fantasy-convention/
LOCATION:Niagara Falls Convention Center\, 101 Old Falls St.\, Niagara Falls\, New York\, 14303\, United States
END:VEVENT
BEGIN:VEVENT
DTSTART;TZID=UTC:20240914T080000
DTEND;TZID=UTC:20240915T170000
DTSTAMP:20260423T153921
CREATED:20240831T235143Z
LAST-MODIFIED:20240831T235327Z
UID:1194-1726300800-1726419600@edebell.com
SUMMARY:London Comic Con
DESCRIPTION:I’ll be chilling in the hallway upstairs – come say hi?
URL:https://edebell.com/event/london-comic-con-5/
LOCATION:London Convention Centre\, 300 York St\, London\, Ontario\, N5W 2X6\, Canada
END:VEVENT
BEGIN:VEVENT
DTSTART;TZID=UTC:20231013T160000
DTEND;TZID=UTC:20231015T170000
DTSTAMP:20260423T153921
CREATED:20230521T144338Z
LAST-MODIFIED:20230521T144340Z
UID:1039-1697212800-1697389200@edebell.com
SUMMARY:Can*Con
DESCRIPTION:So excited to return to Ottawa for this wonderful\, amazing event!
URL:https://edebell.com/event/cancon-2/
LOCATION:The Sheraton Ottawa Hotel\, 150 Albert Street\, Ottawa\, Ontario\, K1P 5G2\, Canada
END:VEVENT
BEGIN:VEVENT
DTSTART;TZID=UTC:20231012T193000
DTEND;TZID=UTC:20231012T213000
DTSTAMP:20260423T153921
CREATED:20230908T224958Z
LAST-MODIFIED:20230908T225000Z
UID:1057-1697139000-1697146200@edebell.com
SUMMARY:Author Meet and Greet with Premee Mohamed and E.D.E. Bell
DESCRIPTION:Come say hi to us at The Spaniel’s Tale! Also the *debut* of the Inkbloom hardcover.
URL:https://edebell.com/event/author-meet-and-greet-with-premee-mohamed-and-e-d-e-bell/
END:VEVENT
BEGIN:VEVENT
DTSTART;TZID=UTC:20230916T100000
DTEND;TZID=UTC:20230917T170000
DTSTAMP:20260423T153921
CREATED:20230521T144024Z
LAST-MODIFIED:20230521T144026Z
UID:1040-1694858400-1694970000@edebell.com
SUMMARY:London Comic Con
DESCRIPTION:Join me at one of my favorite events – the London Comic Con in downtown London\, Ontario.
URL:https://edebell.com/event/london-comic-con-4/
LOCATION:RBC Place London\, 300 York Street\, London\, Ontario\, Canada
END:VEVENT
BEGIN:VEVENT
DTSTART;TZID=UTC:20230803T080000
DTEND;TZID=UTC:20230806T170000
DTSTAMP:20260423T153921
CREATED:20221207T203022Z
LAST-MODIFIED:20221207T203314Z
UID:1020-1691049600-1691341200@edebell.com
SUMMARY:Gen Con Writers Symposium
DESCRIPTION:I will not be in the Authors Avenue this year – I’ll be fully engaged in the Symposium. Hope to see you!
URL:https://edebell.com/event/gen-con-writers-symposium/
LOCATION:Indianapolis Marriott Downtown\, 350 West Maryland Street\, Indianapolis\, Indiana\, 46225
END:VEVENT
BEGIN:VEVENT
DTSTART;TZID=UTC:20230311T080000
DTEND;TZID=UTC:20230312T170000
DTSTAMP:20260423T153921
CREATED:20220821T225804Z
LAST-MODIFIED:20220821T225807Z
UID:998-1678521600-1678640400@edebell.com
SUMMARY:FantastiCon Toledo
DESCRIPTION:I had such a good time last year in Toledo\, I’m thrilled to be attending again! Swing by?
URL:https://edebell.com/event/fantasticon-toledo-2/
LOCATION:Glass City Convention Center\, 401 Jefferson\, Ave\, Toledo\, Ohio
END:VEVENT
BEGIN:VEVENT
DTSTART;TZID=UTC:20230224T080000
DTEND;TZID=UTC:20230225T170000
DTSTAMP:20260423T153921
CREATED:20221207T202918Z
LAST-MODIFIED:20221207T202921Z
UID:1022-1677225600-1677344400@edebell.com
SUMMARY:Great Lakes Comic Con
DESCRIPTION:I’ll be back at the Great Lakes Comic Con Artist Alley – hope to see you!
URL:https://edebell.com/event/great-lakes-comic-con-3/
LOCATION:Macomb Community College Expo Center\, 4500 E. 12 Mile Road\, Warren\, MI\, 48088\, United States
END:VEVENT
BEGIN:VEVENT
DTSTART;TZID=UTC:20221111T080000
DTEND;TZID=UTC:20221113T170000
DTSTAMP:20260423T153921
CREATED:20220129T031438Z
LAST-MODIFIED:20220129T031442Z
UID:941-1668153600-1668358800@edebell.com
SUMMARY:Grand Rapids Comic Con
DESCRIPTION:Join me in Grand Rapids for a fun convention.
URL:https://edebell.com/event/grand-rapids-comic-con-2/
LOCATION:DeVos Place\, 303 Monroe Ave NW\, Grand Rapids\, Michigan\, 49503
END:VEVENT
BEGIN:VEVENT
DTSTART;TZID=UTC:20221014T080000
DTEND;TZID=UTC:20221016T170000
DTSTAMP:20260423T153922
CREATED:20220601T140859Z
LAST-MODIFIED:20220614T190406Z
UID:984-1665734400-1665939600@edebell.com
SUMMARY:Can*Con
DESCRIPTION:
URL:https://edebell.com/event/cancon/
LOCATION:The Sheraton Ottawa Hotel\, 150 Albert Street\, Ottawa\, Ontario\, K1P 5G2\, Canada
END:VEVENT
BEGIN:VEVENT
DTSTART;TZID=UTC:20220917T080000
DTEND;TZID=UTC:20220918T170000
DTSTAMP:20260423T153922
CREATED:20220510T154140Z
LAST-MODIFIED:20220510T154143Z
UID:979-1663401600-1663520400@edebell.com
SUMMARY:London Comic Con
DESCRIPTION:London\, I’ve missed you!
URL:https://edebell.com/event/london-comic-con-3/
LOCATION:London Convention Centre\, 300 York St\, London\, Ontario\, N5W 2X6\, Canada
END:VEVENT
BEGIN:VEVENT
DTSTART;TZID=UTC:20220804T080000
DTEND;TZID=UTC:20220807T170000
DTSTAMP:20260423T153922
CREATED:20220129T031711Z
LAST-MODIFIED:20220129T031715Z
UID:946-1659600000-1659891600@edebell.com
SUMMARY:GenCon
DESCRIPTION:Join me at GenCon! I’ll be so happy to see you. : )
URL:https://edebell.com/event/gencon/
LOCATION:Indianapolis Convention Center\, 100 S. Capitol Avenue\, Indianapolis\, IN\, 46225\, United States
END:VEVENT
BEGIN:VEVENT
DTSTART;TZID=UTC:20220608T080000
DTEND;TZID=UTC:20220612T170000
DTSTAMP:20260423T153922
CREATED:20220129T031600Z
LAST-MODIFIED:20220510T132319Z
UID:944-1654675200-1655053200@edebell.com
SUMMARY:Origins Game Fair
DESCRIPTION:Join me at Origins Game Fair!
URL:https://edebell.com/event/origins-game-fair-3/
LOCATION:Greater Columbus Convention Center\, 400 N. High St.\, Columbus\, Ohio
END:VEVENT
BEGIN:VEVENT
DTSTART;TZID=UTC:20220527T080000
DTEND;TZID=UTC:20220529T170000
DTSTAMP:20260423T153922
CREATED:20220215T123139Z
LAST-MODIFIED:20220215T123144Z
UID:949-1653638400-1653843600@edebell.com
SUMMARY:Cherry Capital Comic Con
DESCRIPTION:See me in TC MI!
URL:https://edebell.com/event/cherry-capital-comic-con-3/
LOCATION:Grand Traverse Resort\, 100 Grand Traverse Village Blvd\, Acme\, MI\, 49610\, United States
END:VEVENT
BEGIN:VEVENT
DTSTART;TZID=UTC:20220513T080000
DTEND;TZID=UTC:20220515T170000
DTSTAMP:20260423T153922
CREATED:20220318T173837Z
LAST-MODIFIED:20220318T173842Z
UID:956-1652428800-1652634000@edebell.com
SUMMARY:Motor City Comic Con
DESCRIPTION:
URL:https://edebell.com/event/motor-city-comic-con-5/
LOCATION:Suburban Collection Showplace\, 46100 Grand River Ave\, Novi\, MI\, 48374\, United States
END:VEVENT
BEGIN:VEVENT
DTSTART;TZID=UTC:20220429T080000
DTEND;TZID=UTC:20220501T170000
DTSTAMP:20260423T153922
CREATED:20220407T135331Z
LAST-MODIFIED:20220407T135334Z
UID:967-1651219200-1651424400@edebell.com
SUMMARY:FAN EXPO Cleveland
DESCRIPTION:
URL:https://edebell.com/event/fan-expo-cleveland-2/
LOCATION:Huntington Convention Center of Cleveland\, 300 Lakeside Ave E\, Cleveland\, OH\, 44114\, United States
END:VEVENT
BEGIN:VEVENT
DTSTART;TZID=UTC:20220312T080000
DTEND;TZID=UTC:20220313T170000
DTSTAMP:20260423T153922
CREATED:20210521T195013Z
LAST-MODIFIED:20210521T195016Z
UID:872-1647072000-1647190800@edebell.com
SUMMARY:Fantasticon
DESCRIPTION:
URL:https://edebell.com/event/fantasticon/
LOCATION:Seagate Convention Centre\, 401 Jefferson Ave\, Toledo\, 43604\, United States
END:VEVENT
BEGIN:VEVENT
DTSTART;TZID=UTC:20220225T080000
DTEND;TZID=UTC:20220226T170000
DTSTAMP:20260423T153922
CREATED:20211116T150238Z
LAST-MODIFIED:20211116T150243Z
UID:911-1645776000-1645894800@edebell.com
SUMMARY:Great Lakes Comic Convention
DESCRIPTION:
URL:https://edebell.com/event/great-lakes-comic-convention-2/
LOCATION:Macomb Community College Expo Center\, 4500 E. 12 Mile Road\, Warren\, MI\, 48088\, United States
END:VEVENT
BEGIN:VEVENT
DTSTART;TZID=UTC:20220121T080000
DTEND;TZID=UTC:20220123T170000
DTSTAMP:20260423T153922
CREATED:20211206T182805Z
LAST-MODIFIED:20211206T182809Z
UID:917-1642752000-1642957200@edebell.com
SUMMARY:Rising ConFusion
DESCRIPTION:
URL:https://edebell.com/event/rising-confusion/
END:VEVENT
BEGIN:VEVENT
DTSTART;TZID=UTC:20211120T080000
DTEND;TZID=UTC:20211120T170000
DTSTAMP:20260423T153922
CREATED:20210829T011216Z
LAST-MODIFIED:20210829T011452Z
UID:887-1637395200-1637427600@edebell.com
SUMMARY:Blue Water International Comic Con
DESCRIPTION:
URL:https://edebell.com/event/blue-water-international-comic-con-2/
LOCATION:Bluewater Convention Center\, 800 Harker St.\, Port Huron\, Michigan\, 48060\, United States
END:VEVENT
BEGIN:VEVENT
DTSTART;TZID=UTC:20211112T080000
DTEND;TZID=UTC:20211114T170000
DTSTAMP:20260423T153922
CREATED:20210521T183501Z
LAST-MODIFIED:20210521T184101Z
UID:865-1636704000-1636909200@edebell.com
SUMMARY:Grand Rapids Comic Con
DESCRIPTION:
URL:https://edebell.com/event/grand-rapids-comic-con/
LOCATION:DeVos Place\, 303 Monroe Ave NW\, Grand Rapids\, Michigan\, 49503
END:VEVENT
BEGIN:VEVENT
DTSTART;TZID=UTC:20211029T080000
DTEND;TZID=UTC:20211031T170000
DTSTAMP:20260423T153922
CREATED:20210521T183803Z
LAST-MODIFIED:20210521T183809Z
UID:867-1635494400-1635699600@edebell.com
SUMMARY:Cherry Capital Comic Con
DESCRIPTION:
URL:https://edebell.com/event/cherry-capital-comic-con-2/
LOCATION:Grand Traverse Resort\, 100 Grand Traverse Village Blvd\, Acme\, MI\, 49610\, United States
END:VEVENT
BEGIN:VEVENT
DTSTART;TZID=UTC:20211015T080000
DTEND;TZID=UTC:20211017T170000
DTSTAMP:20260423T153922
CREATED:20210613T124846Z
LAST-MODIFIED:20210613T124850Z
UID:875-1634284800-1634490000@edebell.com
SUMMARY:Motor City Comic Con
DESCRIPTION:
URL:https://edebell.com/event/motor-city-comic-con-4/
LOCATION:Suburban Collection Showplace\, 46100 Grand River Ave\, Novi\, MI\, 48374\, United States
END:VEVENT
BEGIN:VEVENT
DTSTART;TZID=UTC:20210930T080000
DTEND;TZID=UTC:20211003T170000
DTSTAMP:20260423T153922
CREATED:20210521T182956Z
LAST-MODIFIED:20210521T183000Z
UID:863-1632988800-1633280400@edebell.com
SUMMARY:Origins Game Fair
DESCRIPTION:
URL:https://edebell.com/event/origins-game-fair-2/
LOCATION:Greater Columbus Convention Center\, 400 N. High St.\, Columus\, 43215\, United States
END:VEVENT
BEGIN:VEVENT
DTSTART;TZID=UTC:20210916T080000
DTEND;TZID=UTC:20210919T170000
DTSTAMP:20260423T153922
CREATED:20210521T182630Z
LAST-MODIFIED:20210521T182635Z
UID:861-1631779200-1632070800@edebell.com
SUMMARY:Gen Con
DESCRIPTION:
URL:https://edebell.com/event/gen-con/
LOCATION:Indianapolis Convention Center\, 100 S. Capitol Avenue\, Indianapolis\, IN\, 46225\, United States
END:VEVENT
END:VCALENDAR